BEGIN:VCALENDAR
VERSION:2.0
PRODID:SchoolNow
CALSCALE:GREGORIAN
BEGIN:VEVENT
UID:c3201aae-6f3b-11ed-8b5d-02d684dd00a3
DTSTAMP:20221128T164407Z
SUMMARY:Welcome Back! School Resumes!
URL;VALUE=URI:https://www.dickinson.k12.nd.us/schools/roosevelt/calendar/36
 26969/welcome-back-school-resumes
DTSTART;VALUE=DATE:20230103
DTEND;VALUE=DATE:20230104
END:VEVENT
END:VCALENDAR
