BEGIN:VCALENDAR
VERSION:2.0
PRODID:SchoolNow
CALSCALE:GREGORIAN
BEGIN:VEVENT
UID:800d4548-6f3b-11ed-b7c2-02d684dd00a3
DTSTAMP:20221128T164348Z
SUMMARY:Christmas Break! No School!
URL;VALUE=URI:https://www.dickinson.k12.nd.us/schools/roosevelt/calendar/36
 26968/christmas-break
DTSTART;VALUE=DATE:20221222
DTEND;VALUE=DATE:20230103
END:VEVENT
END:VCALENDAR
