BEGIN:VCALENDAR
VERSION:2.0
PRODID:SchoolNow
CALSCALE:GREGORIAN
BEGIN:VEVENT
UID:c694a638-6f3a-11ed-be0c-02d684dd00a3
DTSTAMP:20230330T153914Z
SUMMARY:Santa Hat Day for the Roosevelt Family for Fire Relief
URL;VALUE=URI:https://www.dickinson.k12.nd.us/schools/roosevelt/calendar/36
 26967/santa-hat-day-for-the-roosevelt-family-for-fire-relief
DTSTART;VALUE=DATE:20221201
DTEND;VALUE=DATE:20221202
END:VEVENT
END:VCALENDAR
