BEGIN:VCALENDAR
VERSION:2.0
PRODID:SchoolNow
CALSCALE:GREGORIAN
BEGIN:VEVENT
UID:0cd180b8-6f3a-11ed-b2df-02d684dd00a3
DTSTAMP:20221213T160207Z
SUMMARY:3rd Grade Music Concert
URL;VALUE=URI:https://www.dickinson.k12.nd.us/schools/roosevelt/calendar/36
 26954/3rd-grade-music-concert
DTSTART:20221221T020000Z
DTEND:20221221T030000Z
END:VEVENT
END:VCALENDAR
