BEGIN:VCALENDAR
VERSION:2.0
PRODID:SchoolNow
CALSCALE:GREGORIAN
BEGIN:VEVENT
UID:921ed93c-5ac2-11ed-8c62-02e58a5c8707
DTSTAMP:20221107T162646Z
SUMMARY:5th Grade Music Concert
URL;VALUE=URI:https://www.dickinson.k12.nd.us/schools/roosevelt/calendar/35
 82480/5th-grade-music-concert
DTSTART:20221116T020000Z
DTEND:20221116T030000Z
END:VEVENT
END:VCALENDAR
