BEGIN:VCALENDAR
VERSION:2.0
PRODID:SchoolNow
CALSCALE:GREGORIAN
BEGIN:VEVENT
UID:2b7cf418-4328-11ed-a42d-0ab08a22b595
DTSTAMP:20221003T143212Z
SUMMARY:Parent Teacher Conferences
URL;VALUE=URI:https://www.dickinson.k12.nd.us/schools/roosevelt/calendar/34
 76477/parent-teacher-conferences
DTSTART:20221013T213000Z
DTEND:20221014T003000Z
END:VEVENT
END:VCALENDAR
