BEGIN:VCALENDAR
VERSION:2.0
PRODID:SchoolNow
CALSCALE:GREGORIAN
BEGIN:VEVENT
UID:19fdbb14-4328-11ed-b602-0ab08a22b595
DTSTAMP:20221003T143143Z
SUMMARY:Parent Teacher Conferences
URL;VALUE=URI:https://www.dickinson.k12.nd.us/schools/roosevelt/calendar/34
 76475/parent-teacher-conferences
DTSTART:20221011T213000Z
DTEND:20221012T003000Z
END:VEVENT
END:VCALENDAR
