BEGIN:VCALENDAR
VERSION:2.0
PRODID:SchoolNow
CALSCALE:GREGORIAN
BEGIN:VEVENT
UID:5fd80100-294f-11ed-b415-0e6b67ff15f7
DTSTAMP:20220921T144312Z
SUMMARY:Fall Picture Day!
URL;VALUE=URI:https://www.dickinson.k12.nd.us/schools/roosevelt/calendar/33
 23660/fall-picture-day
DTSTART;VALUE=DATE:20220926
DTEND;VALUE=DATE:20220927
END:VEVENT
END:VCALENDAR
