BEGIN:VCALENDAR
VERSION:2.0
PRODID:SchoolNow
CALSCALE:GREGORIAN
BEGIN:VEVENT
UID:0ac2c032-c023-11ec-8cdc-02d4e4c45583
DTSTAMP:20220419T205527Z
SUMMARY:1pm Dismissal!
URL;VALUE=URI:https://www.dickinson.k12.nd.us/schools/roosevelt/calendar/31
 75834/1pm-dismissal
DTSTART:20221209T200000Z
DTEND:20221209T220500Z
END:VEVENT
END:VCALENDAR
