BEGIN:VCALENDAR
VERSION:2.0
PRODID:SchoolNow
CALSCALE:GREGORIAN
BEGIN:VEVENT
UID:bda96404-c022-11ec-8ec3-02d4e4c45583
DTSTAMP:20220419T205318Z
SUMMARY:No School!
URL;VALUE=URI:https://www.dickinson.k12.nd.us/schools/roosevelt/calendar/31
 75833/no-school
DTSTART;VALUE=DATE:20221125
DTEND;VALUE=DATE:20221126
END:VEVENT
END:VCALENDAR
