BEGIN:VCALENDAR
VERSION:2.0
PRODID:SchoolNow
CALSCALE:GREGORIAN
BEGIN:VEVENT
UID:b27d65b2-c022-11ec-a863-02d4e4c45583
DTSTAMP:20220419T205259Z
SUMMARY:No  School! Thanksgiving!
URL;VALUE=URI:https://www.dickinson.k12.nd.us/schools/roosevelt/calendar/31
 75832/no-school-thanksgiving
DTSTART;VALUE=DATE:20221124
DTEND;VALUE=DATE:20221125
END:VEVENT
END:VCALENDAR
