BEGIN:VCALENDAR
VERSION:2.0
PRODID:SchoolNow
CALSCALE:GREGORIAN
BEGIN:VEVENT
UID:46fb2b80-c022-11ec-9c84-02d4e4c45583
DTSTAMP:20220419T204959Z
SUMMARY:No School!
URL;VALUE=URI:https://www.dickinson.k12.nd.us/schools/roosevelt/calendar/31
 75831/no-school
DTSTART;VALUE=DATE:20221123
DTEND;VALUE=DATE:20221124
END:VEVENT
END:VCALENDAR
