BEGIN:VCALENDAR
VERSION:2.0
PRODID:SchoolNow
CALSCALE:GREGORIAN
BEGIN:VEVENT
UID:349315b6-c022-11ec-b42e-02d4e4c45583
DTSTAMP:20220419T204928Z
SUMMARY:No School! Veterans Day!
URL;VALUE=URI:https://www.dickinson.k12.nd.us/schools/roosevelt/calendar/31
 75830/no-school-veterans-day
DTSTART;VALUE=DATE:20221111
DTEND;VALUE=DATE:20221112
END:VEVENT
END:VCALENDAR
