BEGIN:VCALENDAR
VERSION:2.0
PRODID:SchoolNow
CALSCALE:GREGORIAN
BEGIN:VEVENT
UID:08fd90ac-c022-11ec-ac90-02d4e4c45583
DTSTAMP:20220419T204815Z
SUMMARY:1pm Dismissal!
URL;VALUE=URI:https://www.dickinson.k12.nd.us/schools/roosevelt/calendar/31
 75829/1pm-dismissal
DTSTART;VALUE=DATE:20221028
DTEND;VALUE=DATE:20221029
END:VEVENT
END:VCALENDAR
