BEGIN:VCALENDAR
VERSION:2.0
PRODID:SchoolNow
CALSCALE:GREGORIAN
BEGIN:VEVENT
UID:fa832cee-c021-11ec-a13b-02d4e4c45583
DTSTAMP:20220419T204751Z
SUMMARY:No School!
URL;VALUE=URI:https://www.dickinson.k12.nd.us/schools/roosevelt/calendar/31
 75828/no-school
DTSTART;VALUE=DATE:20221021
DTEND;VALUE=DATE:20221022
END:VEVENT
END:VCALENDAR
