BEGIN:VCALENDAR
VERSION:2.0
PRODID:SchoolNow
CALSCALE:GREGORIAN
BEGIN:VEVENT
UID:ef1bffac-c021-11ec-8621-02d4e4c45583
DTSTAMP:20220419T204731Z
SUMMARY:No School!
URL;VALUE=URI:https://www.dickinson.k12.nd.us/schools/roosevelt/calendar/31
 75827/no-school
DTSTART;VALUE=DATE:20221020
DTEND;VALUE=DATE:20221021
END:VEVENT
END:VCALENDAR
