BEGIN:VCALENDAR
VERSION:2.0
PRODID:SchoolNow
CALSCALE:GREGORIAN
BEGIN:VEVENT
UID:1c48d564-c021-11ec-b559-02d4e4c45583
DTSTAMP:20220419T204240Z
SUMMARY:1pm Dismissal!
URL;VALUE=URI:https://www.dickinson.k12.nd.us/schools/roosevelt/calendar/31
 75826/1pm-dismissal
DTSTART:20220930T190000Z
DTEND:20220930T210500Z
END:VEVENT
END:VCALENDAR
