BEGIN:VCALENDAR
VERSION:2.0
PRODID:SchoolNow
CALSCALE:GREGORIAN
BEGIN:VEVENT
UID:eaf4cb30-c020-11ec-933d-02d4e4c45583
DTSTAMP:20220419T204015Z
SUMMARY:No School! Labor Day!
URL;VALUE=URI:https://www.dickinson.k12.nd.us/schools/roosevelt/calendar/31
 75825/no-school-labor-day
DTSTART:20220905T140000Z
DTEND:20220905T210500Z
END:VEVENT
END:VCALENDAR
