BEGIN:VCALENDAR
VERSION:2.0
PRODID:SchoolNow
CALSCALE:GREGORIAN
BEGIN:VEVENT
UID:8fae70be-c020-11ec-9806-02d4e4c45583
DTSTAMP:20220419T203742Z
SUMMARY:First Day of School
URL;VALUE=URI:https://www.dickinson.k12.nd.us/schools/roosevelt/calendar/31
 75824/first-day-of-school
DTSTART;VALUE=DATE:20220825
DTEND;VALUE=DATE:20220826
END:VEVENT
END:VCALENDAR
