BEGIN:VCALENDAR
VERSION:2.0
PRODID:SchoolNow
CALSCALE:GREGORIAN
BEGIN:VEVENT
UID:53dc74b4-89d4-11ec-af20-0a79c3efda05
DTSTAMP:20220209T181557Z
SUMMARY:The PAC Meeting for today will be postponed and made up at a later 
 time.
URL;VALUE=URI:https://www.dickinson.k12.nd.us/schools/roosevelt/calendar/30
 98239/the-pac-meeting-for-today-will-be-postponed-and-made-up-at-a-later-t
 ime
DTSTART:20220209T190000Z
DTEND:20220209T200000Z
END:VEVENT
END:VCALENDAR
