BEGIN:VCALENDAR
VERSION:2.0
PRODID:SchoolNow
CALSCALE:GREGORIAN
BEGIN:VEVENT
UID:eeda91be-48b4-11ec-872d-0a912c50ac27
DTSTAMP:20211118T211819Z
SUMMARY:Last Day of School! Dismissal at 1pm!
URL;VALUE=URI:https://www.dickinson.k12.nd.us/schools/roosevelt/calendar/29
 01223/last-day-of-school-dismissal-at-1pm
DTSTART;VALUE=DATE:20220526
DTEND;VALUE=DATE:20220527
END:VEVENT
END:VCALENDAR
