BEGIN:VCALENDAR
VERSION:2.0
PRODID:SchoolNow
CALSCALE:GREGORIAN
BEGIN:VEVENT
UID:dd480d82-48b4-11ec-a193-0a912c50ac27
DTSTAMP:20211118T211658Z
SUMMARY:No School! Easter Monday!
URL;VALUE=URI:https://www.dickinson.k12.nd.us/schools/roosevelt/calendar/29
 01186/no-school-easter-monday
DTSTART;VALUE=DATE:20220418
DTEND;VALUE=DATE:20220419
END:VEVENT
END:VCALENDAR
