BEGIN:VCALENDAR
VERSION:2.0
PRODID:SchoolNow
CALSCALE:GREGORIAN
BEGIN:VEVENT
UID:cc6256e4-48b4-11ec-b3b2-0a912c50ac27
DTSTAMP:20211118T211630Z
SUMMARY:No School! Good Friday!
URL;VALUE=URI:https://www.dickinson.k12.nd.us/schools/roosevelt/calendar/29
 01185/no-school-good-friday
DTSTART;VALUE=DATE:20220415
DTEND;VALUE=DATE:20220416
END:VEVENT
END:VCALENDAR
