BEGIN:VCALENDAR
VERSION:2.0
PRODID:SchoolNow
CALSCALE:GREGORIAN
BEGIN:VEVENT
UID:bd5307f2-48b4-11ec-8aea-0a912c50ac27
DTSTAMP:20211118T211604Z
SUMMARY:No School!
URL;VALUE=URI:https://www.dickinson.k12.nd.us/schools/roosevelt/calendar/29
 01184/no-school
DTSTART;VALUE=DATE:20220414
DTEND;VALUE=DATE:20220415
END:VEVENT
END:VCALENDAR
