BEGIN:VCALENDAR
VERSION:2.0
PRODID:SchoolNow
CALSCALE:GREGORIAN
BEGIN:VEVENT
UID:ab3fe49a-48b4-11ec-b478-0a912c50ac27
DTSTAMP:20211118T211534Z
SUMMARY:1pm Dismissal!
URL;VALUE=URI:https://www.dickinson.k12.nd.us/schools/roosevelt/calendar/29
 01183/1pm-dismissal
DTSTART:20220413T190000Z
DTEND:20220413T210500Z
END:VEVENT
END:VCALENDAR
