BEGIN:VCALENDAR
VERSION:2.0
PRODID:SchoolNow
CALSCALE:GREGORIAN
BEGIN:VEVENT
UID:986b1830-48b4-11ec-b652-0a912c50ac27
DTSTAMP:20211118T211503Z
SUMMARY:1pm Dismissal!
URL;VALUE=URI:https://www.dickinson.k12.nd.us/schools/roosevelt/calendar/29
 01182/1pm-dismissal
DTSTART:20220325T190000Z
DTEND:20220325T210500Z
END:VEVENT
END:VCALENDAR
