BEGIN:VCALENDAR
VERSION:2.0
PRODID:SchoolNow
CALSCALE:GREGORIAN
BEGIN:VEVENT
UID:83a3b9fc-48b4-11ec-9e35-0a912c50ac27
DTSTAMP:20211118T211428Z
SUMMARY:No School!
URL;VALUE=URI:https://www.dickinson.k12.nd.us/schools/roosevelt/calendar/29
 01181/no-school
DTSTART;VALUE=DATE:20220304
DTEND;VALUE=DATE:20220305
END:VEVENT
END:VCALENDAR
