BEGIN:VCALENDAR
VERSION:2.0
PRODID:SchoolNow
CALSCALE:GREGORIAN
BEGIN:VEVENT
UID:6bdf4656-48b4-11ec-9062-0a912c50ac27
DTSTAMP:20211118T211348Z
SUMMARY:No School! President's Day!
URL;VALUE=URI:https://www.dickinson.k12.nd.us/schools/roosevelt/calendar/29
 01180/no-school-presidents-day
DTSTART;VALUE=DATE:20220221
DTEND;VALUE=DATE:20220222
END:VEVENT
END:VCALENDAR
