BEGIN:VCALENDAR
VERSION:2.0
PRODID:SchoolNow
CALSCALE:GREGORIAN
BEGIN:VEVENT
UID:56daf62e-48b4-11ec-ac38-0a912c50ac27
DTSTAMP:20211118T211313Z
SUMMARY:1pm Dismissal!
URL;VALUE=URI:https://www.dickinson.k12.nd.us/schools/roosevelt/calendar/29
 01179/1pm-dismissal
DTSTART:20220218T200000Z
DTEND:20220218T220500Z
END:VEVENT
END:VCALENDAR
