BEGIN:VCALENDAR
VERSION:2.0
PRODID:SchoolNow
CALSCALE:GREGORIAN
BEGIN:VEVENT
UID:b3314a96-48b3-11ec-9729-0a912c50ac27
DTSTAMP:20211118T210838Z
SUMMARY:1st Grade Music Program
URL;VALUE=URI:https://www.dickinson.k12.nd.us/schools/roosevelt/calendar/29
 01176/1st-grade-music-program
DTSTART;VALUE=DATE:20220310
DTEND;VALUE=DATE:20220311
END:VEVENT
END:VCALENDAR
