BEGIN:VCALENDAR
VERSION:2.0
PRODID:SchoolNow
CALSCALE:GREGORIAN
BEGIN:VEVENT
UID:a3517560-48b3-11ec-95ff-0a912c50ac27
DTSTAMP:20211118T210811Z
SUMMARY:Last Day of Trimester 2
URL;VALUE=URI:https://www.dickinson.k12.nd.us/schools/roosevelt/calendar/29
 01175/last-day-of-trimester-2
DTSTART;VALUE=DATE:20220301
DTEND;VALUE=DATE:20220302
END:VEVENT
END:VCALENDAR
