BEGIN:VCALENDAR
VERSION:2.0
PRODID:SchoolNow
CALSCALE:GREGORIAN
BEGIN:VEVENT
UID:9026657c-48b3-11ec-8169-0a912c50ac27
DTSTAMP:20211118T210739Z
SUMMARY:Parent Teacher Conferences
URL;VALUE=URI:https://www.dickinson.k12.nd.us/schools/roosevelt/calendar/29
 01174/parent-teacher-conferences
DTSTART;VALUE=DATE:20220217
DTEND;VALUE=DATE:20220218
END:VEVENT
END:VCALENDAR
