BEGIN:VCALENDAR
VERSION:2.0
PRODID:SchoolNow
CALSCALE:GREGORIAN
BEGIN:VEVENT
UID:8157ef70-48b3-11ec-96ab-0a912c50ac27
DTSTAMP:20211118T210714Z
SUMMARY:Parent Teacher Conferences
URL;VALUE=URI:https://www.dickinson.k12.nd.us/schools/roosevelt/calendar/29
 01173/parent-teacher-conferences
DTSTART;VALUE=DATE:20220215
DTEND;VALUE=DATE:20220216
END:VEVENT
END:VCALENDAR
