BEGIN:VCALENDAR
VERSION:2.0
PRODID:SchoolNow
CALSCALE:GREGORIAN
BEGIN:VEVENT
UID:726938f2-48b3-11ec-8263-0a912c50ac27
DTSTAMP:20211118T210649Z
SUMMARY:Spring Picture Day!
URL;VALUE=URI:https://www.dickinson.k12.nd.us/schools/roosevelt/calendar/29
 01172/spring-picture-day
DTSTART;VALUE=DATE:20220202
DTEND;VALUE=DATE:20220203
END:VEVENT
END:VCALENDAR
