BEGIN:VCALENDAR
VERSION:2.0
PRODID:SchoolNow
CALSCALE:GREGORIAN
BEGIN:VEVENT
UID:f7f036fe-cb62-11ee-ae2c-0a58a9feac02
DTSTAMP:20240214T180042Z
SUMMARY:Kinder Kick-Off
URL;VALUE=URI:https://www.dickinson.k12.nd.us/schools/jefferson/calendar/53
 28527/kinder-kick-off
DTSTART:20240315T000000Z
DTEND:20240315T010000Z
ATTACH;FILENAME=;FMTTYPE=application/octet-stream:
END:VEVENT
END:VCALENDAR
