BEGIN:VCALENDAR
VERSION:2.0
PRODID:SchoolNow
CALSCALE:GREGORIAN
BEGIN:VEVENT
UID:5707c2d0-bc9d-11ee-a098-0e344c2ccefb
DTSTAMP:20240126T225045Z
SUMMARY:1st Day of Summer RASP Program
URL;VALUE=URI:https://www.dickinson.k12.nd.us/schools/jefferson/calendar/52
 15135/1st-day-of-summer-rasp-program
DTSTART;VALUE=DATE:20240603
DTEND;VALUE=DATE:20240604
END:VEVENT
END:VCALENDAR
