BEGIN:VCALENDAR
VERSION:2.0
PRODID:SchoolNow
CALSCALE:GREGORIAN
BEGIN:VEVENT
UID:19b82230-bc9d-11ee-80fa-0efca7479bb7
DTSTAMP:20240126T224902Z
SUMMARY:RASP Summer Registration Opens
URL;VALUE=URI:https://www.dickinson.k12.nd.us/schools/jefferson/calendar/52
 15129/rasp-summer-registration-opens
DTSTART;VALUE=DATE:20240501
DTEND;VALUE=DATE:20240502
END:VEVENT
END:VCALENDAR
