BEGIN:VCALENDAR
VERSION:2.0
PRODID:SchoolNow
CALSCALE:GREGORIAN
BEGIN:VEVENT
UID:488f96b8-5d4f-11ee-b01a-0a58a9feac02
DTSTAMP:20230927T160239Z
SUMMARY:Eggs and Issues: October 24 School Bond Referendum
URL;VALUE=URI:https://www.dickinson.k12.nd.us/schools/jefferson/calendar/48
 00707/eggs-and-issues-october-24-school-bond-referendum
DTSTART:20231011T130000Z
DTEND:20231011T140000Z
END:VEVENT
END:VCALENDAR
