BEGIN:VCALENDAR
VERSION:2.0
PRODID:SchoolNow
CALSCALE:GREGORIAN
BEGIN:VEVENT
UID:31df5c44-1cd9-11ed-9c2f-0eaeff50647b
DTSTAMP:20220815T203108Z
SUMMARY:Fall Open House - Elementary Schools
URL;VALUE=URI:https://www.dickinson.k12.nd.us/schools/jefferson/calendar/32
 82814/fall-open-house-elementary-schools
DTSTART:20220823T230000Z
DTEND:20220824T000000Z
END:VEVENT
END:VCALENDAR
