BEGIN:VCALENDAR
VERSION:2.0
PRODID:SchoolNow
CALSCALE:GREGORIAN
BEGIN:VEVENT
UID:92ca7c8c-d469-11f0-9932-0a58a9feac02
DTSTAMP:20251216T154535Z
SUMMARY:Ugly Sweater Day!
URL;VALUE=URI:https://www.dickinson.k12.nd.us/schools/dms/calendar/8820011/
 ugly-sweater-day
DTSTART;VALUE=DATE:20251218
DTEND;VALUE=DATE:20251219
END:VEVENT
END:VCALENDAR
