BEGIN:VCALENDAR
VERSION:2.0
PRODID:SchoolNow
CALSCALE:GREGORIAN
BEGIN:VEVENT
UID:92ca7b74-d469-11f0-a225-0a58a9feac02
DTSTAMP:20251216T154535Z
SUMMARY:Christmas Character Day
URL;VALUE=URI:https://www.dickinson.k12.nd.us/schools/dms/calendar/8820010/
 christmas-character-day
DTSTART;VALUE=DATE:20251216
DTEND;VALUE=DATE:20251217
END:VEVENT
END:VCALENDAR
