BEGIN:VCALENDAR
VERSION:2.0
PRODID:SchoolNow
CALSCALE:GREGORIAN
BEGIN:VEVENT
UID:92ca7a5c-d469-11f0-bf51-0a58a9feac02
DTSTAMP:20251216T154535Z
SUMMARY:Color Wars
URL;VALUE=URI:https://www.dickinson.k12.nd.us/schools/dms/calendar/8820009/
 color-wars
DTSTART;VALUE=DATE:20251215
DTEND;VALUE=DATE:20251216
END:VEVENT
END:VCALENDAR
