BEGIN:VCALENDAR
VERSION:2.0
PRODID:SchoolNow
CALSCALE:GREGORIAN
BEGIN:VEVENT
UID:92ca77dc-d469-11f0-b615-0a58a9feac02
DTSTAMP:20251216T154535Z
SUMMARY:Christmas PJ Day!
URL;VALUE=URI:https://www.dickinson.k12.nd.us/schools/dms/calendar/8820008/
 christmas-pj-day
DTSTART;VALUE=DATE:20251219
DTEND;VALUE=DATE:20251220
END:VEVENT
END:VCALENDAR
