BEGIN:VCALENDAR
VERSION:2.0
PRODID:SchoolNow
CALSCALE:GREGORIAN
BEGIN:VEVENT
UID:92ca741c-d469-11f0-9fef-0a58a9feac02
DTSTAMP:20251216T154535Z
SUMMARY:Santa Hat Day!
URL;VALUE=URI:https://www.dickinson.k12.nd.us/schools/dms/calendar/8820007/
 santa-hat-day
DTSTART;VALUE=DATE:20251217
DTEND;VALUE=DATE:20251218
END:VEVENT
END:VCALENDAR
