BEGIN:VCALENDAR
VERSION:2.0
PRODID:SchoolNow
CALSCALE:GREGORIAN
BEGIN:VEVENT
UID:c34b86f2-9f22-11f0-849d-0a58a9feac02
DTSTAMP:20251216T154535Z
SUMMARY:Fall DMS Dance
URL;VALUE=URI:https://www.dickinson.k12.nd.us/schools/dms/calendar/8685585/
 fall-dms-dance
DTSTART;VALUE=DATE:20251024
DTEND;VALUE=DATE:20251025
END:VEVENT
END:VCALENDAR
