BEGIN:VCALENDAR
VERSION:2.0
PRODID:SchoolNow
CALSCALE:GREGORIAN
BEGIN:VEVENT
UID:cd598a08-9e56-11f0-a994-0a58a9feac02
DTSTAMP:20251216T154535Z
SUMMARY:Picture Retakes Day
URL;VALUE=URI:https://www.dickinson.k12.nd.us/schools/dms/calendar/8681909/
 picture-retakes-day
DTSTART:20251105T154500Z
DTEND:20251105T184500Z
END:VEVENT
END:VCALENDAR
