BEGIN:VCALENDAR
VERSION:2.0
PRODID:SchoolNow
CALSCALE:GREGORIAN
BEGIN:VEVENT
UID:8fd7bca8-8f66-11f0-b8d7-0a58a9feac02
DTSTAMP:20251216T154535Z
SUMMARY:Constitution Day Assembly
URL;VALUE=URI:https://www.dickinson.k12.nd.us/schools/dms/calendar/8610967/
 constitution-day-assembly
DTSTART:20250920T023000Z
DTEND:20250920T031500Z
END:VEVENT
END:VCALENDAR
