BEGIN:VCALENDAR
VERSION:2.0
PRODID:SchoolNow
CALSCALE:GREGORIAN
BEGIN:VEVENT
UID:9997df24-8e9a-11f0-b3c9-0a58a9feac02
DTSTAMP:20251216T154535Z
SUMMARY:Mavericks Pride
URL;VALUE=URI:https://www.dickinson.k12.nd.us/schools/dms/calendar/8606584/
 mavericks-pride
DTSTART;VALUE=DATE:20250919
DTEND;VALUE=DATE:20250920
END:VEVENT
END:VCALENDAR
