BEGIN:VCALENDAR
VERSION:2.0
PRODID:SchoolNow
CALSCALE:GREGORIAN
BEGIN:VEVENT
UID:9997de20-8e9a-11f0-b4aa-0a58a9feac02
DTSTAMP:20251216T154535Z
SUMMARY:Dress as the Year you were Born
URL;VALUE=URI:https://www.dickinson.k12.nd.us/schools/dms/calendar/8606583/
 dress-as-the-year-you-were-born
DTSTART;VALUE=DATE:20250918
DTEND;VALUE=DATE:20250919
END:VEVENT
END:VCALENDAR
