BEGIN:VCALENDAR
VERSION:2.0
PRODID:SchoolNow
CALSCALE:GREGORIAN
BEGIN:VEVENT
UID:9997dcfe-8e9a-11f0-8a06-0a58a9feac02
DTSTAMP:20251216T154535Z
SUMMARY:Army vs Barbie (Pink vs Camo)
URL;VALUE=URI:https://www.dickinson.k12.nd.us/schools/dms/calendar/8606582/
 army-vs-barbie-pink-vs-camo
DTSTART;VALUE=DATE:20250915
DTEND;VALUE=DATE:20250916
END:VEVENT
END:VCALENDAR
